BEGIN:VCALENDAR
VERSION:2.0
PRODID:-//Turismo A Guarda - ECPv6.15.20//NONSGML v1.0//EN
CALSCALE:GREGORIAN
METHOD:PUBLISH
X-ORIGINAL-URL:https://www.turismoaguarda.es/gl/
X-WR-CALDESC:Events for Turismo A Guarda
REFRESH-INTERVAL;VALUE=DURATION:PT1H
X-Robots-Tag:noindex
X-PUBLISHED-TTL:PT1H
BEGIN:VTIMEZONE
TZID:Europe/Madrid
BEGIN:DAYLIGHT
TZOFFSETFROM:+0100
TZOFFSETTO:+0200
TZNAME:CEST
DTSTART:20180325T010000
END:DAYLIGHT
BEGIN:STANDARD
TZOFFSETFROM:+0200
TZOFFSETTO:+0100
TZNAME:CET
DTSTART:20181028T010000
END:STANDARD
BEGIN:DAYLIGHT
TZOFFSETFROM:+0100
TZOFFSETTO:+0200
TZNAME:CEST
DTSTART:20190331T010000
END:DAYLIGHT
BEGIN:STANDARD
TZOFFSETFROM:+0200
TZOFFSETTO:+0100
TZNAME:CET
DTSTART:20191027T010000
END:STANDARD
BEGIN:DAYLIGHT
TZOFFSETFROM:+0100
TZOFFSETTO:+0200
TZNAME:CEST
DTSTART:20200329T010000
END:DAYLIGHT
BEGIN:STANDARD
TZOFFSETFROM:+0200
TZOFFSETTO:+0100
TZNAME:CET
DTSTART:20201025T010000
END:STANDARD
END:VTIMEZONE
BEGIN:VEVENT
DTSTART;TZID=Europe/Madrid:20190918T120000
DTEND;TZID=Europe/Madrid:20190919T130000
DTSTAMP:20260419T192548
CREATED:20190905T090938Z
LAST-MODIFIED:20190905T090938Z
UID:12006-1568808000-1568898000@www.turismoaguarda.es
SUMMARY:Visitas guiadas polo casco urbano da Guarda
DESCRIPTION:Mércores: “Prazas antigas e novas” \nXoves: “Castelo de Sta. Cruz” \n\n\nPunto de encontro: Oficina de turismo na Praza do Reló \n\n\nDuración: 60 minutos \n\n\nVisitas gratuitas e sen inscrición previa
URL:https://www.turismoaguarda.es/gl/event/visitas-guiadas-polo-casco-urbano-da-guarda-2/
CATEGORIES:Culturales
END:VEVENT
BEGIN:VEVENT
DTSTART;TZID=Europe/Madrid:20190917T113000
DTEND;TZID=Europe/Madrid:20190917T183000
DTSTAMP:20260419T192548
CREATED:20190905T090804Z
LAST-MODIFIED:20190905T090804Z
UID:12004-1568719800-1568745000@www.turismoaguarda.es
SUMMARY:Visitas guiadas no Mte. Sta. Trega
DESCRIPTION:11:30 Visita ao castro de Sta. Trega \n\n\nPunto de encontro: castro\, vivenda reconstruida \n\n\nDuración: 30 minutos \n\n\n12:30 e 17:00 Visita ao Monte Sta. Trega \n\n\nPunto de encontro: MASAT\, Museo arqueolóxico \n\n\nDuración: 90 minutos \n\n\nVisitas guiadas gratuitas e sen inscripción previa \nTaxa de acceso ao monte: 1 Euro e 0\,50 menor de 14 anos \nGrupo de máis de 10 persoas reserva previa no 986610504
URL:https://www.turismoaguarda.es/gl/event/visitas-guiadas-no-mte-sta-trega-2/
CATEGORIES:Culturales
END:VEVENT
BEGIN:VEVENT
DTSTART;TZID=Europe/Madrid:20190915T210000
DTEND;TZID=Europe/Madrid:20190915T220000
DTSTAMP:20260419T192548
CREATED:20190905T090410Z
LAST-MODIFIED:20190905T090410Z
UID:12000-1568581200-1568584800@www.turismoaguarda.es
SUMMARY:Actuación musical " A chavola de Coiro Vello"
DESCRIPTION:Na Praza dos Seixiños\, A Gándara \nOrganiza: A.V. O Percamino \n 
URL:https://www.turismoaguarda.es/gl/event/actuacion-musical-a-chavola-de-coiro-vello/
CATEGORIES:Culturales
END:VEVENT
BEGIN:VEVENT
DTSTART;TZID=Europe/Madrid:20190913T223000
DTEND;TZID=Europe/Madrid:20190913T233000
DTSTAMP:20260419T192548
CREATED:20190905T084240Z
LAST-MODIFIED:20190905T084240Z
UID:11996-1568413800-1568417400@www.turismoaguarda.es
SUMMARY:Música nas prazas: Concerto de Helen&Shanna
DESCRIPTION:Na Praza dos Seixiños \nOrganiza: Concello da Guarda
URL:https://www.turismoaguarda.es/gl/event/musica-nas-prazas-concerto-de-helenshanna/
CATEGORIES:Culturales
END:VEVENT
BEGIN:VEVENT
DTSTART;TZID=Europe/Madrid:20190912T113000
DTEND;TZID=Europe/Madrid:20190914T183000
DTSTAMP:20260419T192548
CREATED:20190905T084036Z
LAST-MODIFIED:20190905T084036Z
UID:11994-1568287800-1568485800@www.turismoaguarda.es
SUMMARY:Visitas guiadas Mte. Sta. Trega
DESCRIPTION:11:30 Visita ao castro de Sta. Trega \n\n\nPunto de encontro: castro\, vivenda reconstruida \n\n\nDuración: 30 minutos \n\n\n12:30 e 17:00 Visita ao Monte Sta. Trega \n\n\nPunto de encontro: MASAT\, Museo arqueolóxico \n\n\nDuración: 90 minutos \n\n\nVisitas guiadas gratuitas e sen inscripción previa \nTaxa de acceso ao monte: 1 Euro e 0\,50 menor de 14 anos \nGrupo de máis de 10 persoas reserva previa no 986610504
URL:https://www.turismoaguarda.es/gl/event/visitas-guiadas-mte-sta-trega-3/
CATEGORIES:Culturales
END:VEVENT
BEGIN:VEVENT
DTSTART;TZID=Europe/Madrid:20190910T120000
DTEND;TZID=Europe/Madrid:20190911T130000
DTSTAMP:20260419T192548
CREATED:20190905T083757Z
LAST-MODIFIED:20190905T083757Z
UID:11992-1568116800-1568206800@www.turismoaguarda.es
SUMMARY:Visitas guiadas polo casco urbano da Guarda
DESCRIPTION:Mércores: “Prazas antigas e novas” \nXoves: “Castelo de Sta. Cruz” \n\n\nPunto de encontro: Oficina de turismo na Praza do Reló \n\n\nDuración: 60 minutos \n\n\nVisitas gratuitas e sen inscrición previa
URL:https://www.turismoaguarda.es/gl/event/visitas-guiadas-polo-casco-urbano-da-guarda/
CATEGORIES:Culturales
END:VEVENT
BEGIN:VEVENT
DTSTART;TZID=Europe/Madrid:20190910T113000
DTEND;TZID=Europe/Madrid:20190910T183000
DTSTAMP:20260419T192548
CREATED:20190905T083259Z
LAST-MODIFIED:20190905T083259Z
UID:11990-1568115000-1568140200@www.turismoaguarda.es
SUMMARY:Visitas guiadas Mte. Sta. Trega
DESCRIPTION:11:30 Visita ao castro de Sta. Trega \n\n\nPunto de encontro: castro\, vivenda reconstruida \n\n\nDuración: 30 minutos \n\n\n12:30 e 17:00 Visita ao Monte Sta. Trega \n\n\nPunto de encontro: MASAT\, Museo arqueolóxico \n\n\nDuración: 90 minutos \n\n\nVisitas guiadas gratuitas e sen inscripción previa \nTaxa de acceso ao monte: 1 Euro e 0\,50 menor de 14 anos \nGrupo de máis de 10 persoas reserva previa no 986610504
URL:https://www.turismoaguarda.es/gl/event/visitas-guiadas-mte-sta-trega-2/
CATEGORIES:Culturales
END:VEVENT
BEGIN:VEVENT
DTSTART;TZID=Europe/Madrid:20190906T113000
DTEND;TZID=Europe/Madrid:20190906T183000
DTSTAMP:20260419T192548
CREATED:20190905T082610Z
LAST-MODIFIED:20190905T082610Z
UID:11986-1567769400-1567794600@www.turismoaguarda.es
SUMMARY:Visitas guiadas Mte. Sta. Trega
DESCRIPTION:11:30 Visita ao castro de Sta. Trega \n\n\nPunto de encontro: castro\, vivenda reconstruida \n\n\nDuración: 30 minutos \n\n\n12:30 e 17:00 Visita ao Monte Sta. Trega \n\n\nPunto de encontro: MASAT\, Museo arqueolóxico \n\n\nDuración: 90 minutos \n\n\nVisitas guiadas gratuitas e sen inscripción previa \nTaxa de acceso ao monte: 1 Euro e 0\,50 menor de 14 anos \nGrupo de máis de 10 persoas reserva previa no 986610504
URL:https://www.turismoaguarda.es/gl/event/visitas-guiadas-mte-sta-trega/
CATEGORIES:Culturales
END:VEVENT
END:VCALENDAR